BEGIN:VCALENDAR
VERSION:2.0
PRODID:icalendar-ruby
CALSCALE:GREGORIAN
METHOD:PUBLISH
BEGIN:VEVENT
DTSTAMP:20260424T044939Z
UID:96-411729@stsarkischurch.net
DTSTART:20260515T230000Z
DTEND:20260516T020000Z
CLASS:PUBLIC
CREATED:20260423T194518
DESCRIPTION:\n
LAST-MODIFIED:20260423T194518
LOCATION:
SUMMARY:NRA BANQUET OF RECOGNITION
URL;VALUE=URI:https://stsarkischurch.net/events/nra-banquet-of-recognition/
 2026-05-15
ATTACH;FILENAME=WhatsApp-Image-2026-04-23-at-12.33.21.jpeg;FMTTYPE=image/jp
 eg:https://dq5pwpg1q8ru0.cloudfront.net/2026/04/23/23/44/33/f179669f-97a8-
 466d-a841-030e1a751f87/WhatsApp-Image-2026-04-23-at-12.33.21.jpeg
END:VEVENT
END:VCALENDAR
