BEGIN:VCALENDAR
VERSION:2.0
PRODID:icalendar-ruby
CALSCALE:GREGORIAN
METHOD:PUBLISH
BEGIN:VEVENT
DTSTAMP:20260424T115755Z
UID:97-411730@stsarkischurch.net
DTSTART:20261008T120000Z
DTEND:20261009T010000Z
CLASS:PUBLIC
CREATED:20260423T194724
DESCRIPTION:
LAST-MODIFIED:20260423T194724
LOCATION:
SUMMARY:Golf Outing
URL;VALUE=URI:https://stsarkischurch.net/events/golf-outing--97/2026-10-08
ATTACH;FILENAME=Save-the-Date-flyer---2026-1.png;FMTTYPE=image/png:https://
 dq5pwpg1q8ru0.cloudfront.net/2026/04/23/23/47/24/61701367-cad1-4aa0-a07d-c
 a4f44760f1f/Save-the-Date-flyer---2026-1.png
END:VEVENT
END:VCALENDAR
