BEGIN:VCALENDAR
VERSION:2.0
PRODID:icalendar-ruby
CALSCALE:GREGORIAN
METHOD:PUBLISH
BEGIN:VEVENT
DTSTAMP:20260424T044320Z
UID:95-411731@stsarkischurch.net
DTSTART:20260514T223000Z
DTEND:20260515T020000Z
CLASS:PUBLIC
CREATED:20260423T195329
DESCRIPTION:\n\n\n
LAST-MODIFIED:20260423T195329
LOCATION:
SUMMARY:Divine Liturgy 
URL;VALUE=URI:https://stsarkischurch.net/events/divine-liturgy/2026-05-14
ATTACH;FILENAME=Untitled-74.png;FMTTYPE=image/png:https://dq5pwpg1q8ru0.clo
 udfront.net/2026/04/23/23/43/20/6682af83-deda-4730-a5d2-cafa38782b84/Untit
 led-74.png
END:VEVENT
END:VCALENDAR
